BEGIN:VCALENDAR
VERSION:2.0
PRODID:-//Library Market//iCal Export//EN
BEGIN:VEVENT
SUMMARY:Hobbity Birthday Party
UID:20780
DTSTAMP:20260419T214400Z
DTSTART:20260919T200000Z
DTEND:20260919T213000Z
LOCATION:722 Court St., The Dalles, OR 97058, United States
ROOM: Meeting Room
DESCRIPTION:
URL:https://www.wascocountylibrary.com/event/hobbity-birthday-party-20780
END:VEVENT
END:VCALENDAR
