BEGIN:VCALENDAR
VERSION:2.0
PRODID:-//Library Market//iCal Export//EN
BEGIN:VEVENT
SUMMARY:Colonel Wright Marimba Team!
UID:20834
DTSTAMP:20260419T182300Z
DTSTART:20260514T171500Z
DTEND:20260514T180000Z
LOCATION:722 Court St., The Dalles, OR 97058, United States
ROOM: Main Library
DESCRIPTION:Join us for a morning of Marimba fun with the Colonel Wright M
 arimba Performance Team! 
URL:https://www.wascocountylibrary.com/event/colonel-wright-marimba-team-2
 0834
END:VEVENT
END:VCALENDAR
