BEGIN:VCALENDAR
VERSION:2.0
PRODID:-//Library Market//iCal Export//EN
BEGIN:VEVENT
SUMMARY:Family Board Game Afternoons
UID:20852
DTSTAMP:20260419T161400Z
DTSTART:20260613T210000Z
DTEND:20260613T230000Z
LOCATION:722 Court St., The Dalles, OR 97058, United States
ROOM: Main Library
DESCRIPTION:Do you ever get &quot;Board&quot; on the weekends? Want to fil
 l it with fun, laughter, and friends? Then come join our brand new program
 , Family Board Game Afternoons, every 2nd and 4th Satuday, where we have a
  selection of all manner of board games- the classics, the cool, and somet
 imes the downright crazy. Bring the whole family and enjoy some good old-f
 ashioned fun and wholesome entertainment together!Here are just some of th
 e fun games we are bringing: Monopoly, Trivial Pursuit, Simon Says, Chutes
  and Ladders, Cootie, Wingspan, Clue, Mysterium, Guess Who, Operation, Bar
 rel of Monkeys...to say a few! Light snacks provided. 
URL:https://www.wascocountylibrary.com/event/family-game-fundays-20852
END:VEVENT
END:VCALENDAR
