BEGIN:VCALENDAR
VERSION:2.0
PRODID:-//Library Market//iCal Export//EN
BEGIN:VEVENT
SUMMARY:save the chairs
UID:20926
DTSTAMP:20260419T174300Z
DTSTART:20260804T160000Z
DTEND:20260804T174500Z
LOCATION:722 Court St., The Dalles, OR 97058, United States
ROOM: Meeting Room
DESCRIPTION:
URL:https://www.wascocountylibrary.com/event/save-chairs-20926
END:VEVENT
END:VCALENDAR
