BEGIN:VCALENDAR
VERSION:2.0
PRODID:-//Library Market//iCal Export//EN
BEGIN:VEVENT
SUMMARY:Bridge City Theater: When Thor (almost) Married an Ogre
UID:20932
DTSTAMP:20260419T182300Z
DTSTART:20261107T183000Z
DTEND:20261107T193000Z
LOCATION:722 Court St., The Dalles, OR 97058, United States
ROOM: Main Library
DESCRIPTION:Kevin James Murphy is the founder and creative director of Bri
 dge City Theatre! This November, he&#039;s coming to bring us the story of
  the time Thor (almost) married an Ogre! When Asgard agrees to The Ogre&#0
 39;s ransom demand to marry Freya, Thor and Loki devise a plan that will m
 ake for the Wildest Wedding of the Century! It&#039;s fun for all, so come
  enjoy a fall theater production for families! 
URL:https://www.wascocountylibrary.com/event/bridge-city-theater-when-thor
 -almost-married-ogre-20932
END:VEVENT
END:VCALENDAR
