BEGIN:VCALENDAR
VERSION:2.0
PRODID:-//Library Market//iCal Export//EN
BEGIN:VEVENT
SUMMARY:Will Hornyak Storyteller - Grimm&#039;s Fairytales
UID:20934
DTSTAMP:20260419T181200Z
DTSTART:20261003T220000Z
DTEND:20261003T230000Z
LOCATION:722 Court St., The Dalles, OR 97058, United States
ROOM: Main Library
DESCRIPTION:A soulful storyteller, creative teacher and dynamic performer,
  Will Hornyak weaves world myths, local tall tales and original creations 
 into unique, well-crafted and engaging performances, workshops and keynote
 s.A life-long traveler he has worked as a newspaperman in South America, a
  fisherman in Alaska, a carpenter, farm hand and university instructor. St
 ories, poems and songs of work and labor find common ground with Irish myt
 hs, Mexican fables, Grimm’s fairytales and Oregon tall tales in Will’s
  highly imaginative performances. 
URL:https://www.wascocountylibrary.com/event/will-hornyak-storyteller-grim
 ms-fairytales-20934
END:VEVENT
END:VCALENDAR
