BEGIN:VCALENDAR
VERSION:2.0
PRODID:-//Library Market//iCal Export//EN
BEGIN:VEVENT
SUMMARY:Friday Concerts in June at Noon
UID:20942
DTSTAMP:20260419T144400Z
DTSTART:20260626T190000Z
DTEND:20260626T200000Z
LOCATION:722 Court St., The Dalles, OR 97058, United States
ROOM: Friday Concerts in June at Noon
DESCRIPTION:Join us for our Fridays in June at Noon Concert Series—a fre
 e, family-friendly event held outdoors on the library’s beautiful deck, 
 beneath the cooling shade of our majestic Sycamore tree. Each Friday at no
 on throughout the month of June, we welcome the community to relax, enjoy 
 live music, and celebrate the joy of shared experience.Now in its third ye
 ar, this beloved series is made possible by the generous support of the Wa
 sco County Cultural Trust. In 2026, we’re highlighting global sounds, br
 inging music from around the world to The Dalles. Each performance include
 s a short educational element, offering audiences a unique opportunity to 
 deepen their appreciation of different musical traditions—whether throug
 h stories, cultural context, or live demonstrations of distinctive instrum
 ents.Light Lunch Provided While Supplies LastBring a friend or make some n
 ew ones, and enjoy music that feeds both the soul and the mind.
URL:https://www.wascocountylibrary.com/event/save-possible-friday-concerts
 -deck-20942
END:VEVENT
END:VCALENDAR
