BEGIN:VCALENDAR
VERSION:2.0
PRODID:-//Library Market//iCal Export//EN
BEGIN:VEVENT
SUMMARY:AA After Hours Celebration
UID:20962
DTSTAMP:20260423T061000Z
DTSTART:20261121T030000Z
DTEND:20261121T050000Z
LOCATION:722 Court St., The Dalles, OR 97058, United States
ROOM: Meeting Room
DESCRIPTION:
URL:https://www.wascocountylibrary.com/event/aa-after-hours-celebration-20
 962
END:VEVENT
END:VCALENDAR
