BEGIN:VCALENDAR
VERSION:2.0
PRODID:-//Library Market//iCal Export//EN
BEGIN:VEVENT
SUMMARY:Beginner Tap, Teen and Adult, Special Holiday Edition
UID:20966
DTSTAMP:20260423T011000Z
DTSTART:20261010T004500Z
DTEND:20261010T013000Z
LOCATION:722 Court St., The Dalles, OR 97058, United States
ROOM: Meeting Room
DESCRIPTION:
URL:https://www.wascocountylibrary.com/event/beginner-tap-teen-and-adult-s
 pecial-holiday-edition-20966
END:VEVENT
END:VCALENDAR
